BEGIN:VCALENDAR
VERSION:2.0
PRODID:Imitheme.com 
BEGIN:VEVENT
UID:20260422T2041041074974195
DTSTAMP;TZID=UTC:2026-04-22 20:41:04
DTSTART;TZID=America/Los_Angeles:20260422T204104
DTEND;TZID=America/Los_Angeles:20260422T204104
SUMMARY:Dinamikus lövészsport verseny - Gyorspont/Rapid gyorspont
LOCATION:LŐTÉR - Élménylövészet Pécs
DESCRIPTION:
URL:https://elmenyloveszet.hu/esemeny/dinamikus-loveszsport-verseny-gyorspont-rapid-gyorspont-2/
END:VEVENT
END:VCALENDAR
