BEGIN:VCALENDAR
VERSION:2.0
PRODID:Imitheme.com 
BEGIN:VEVENT
UID:20260420T1303031054230981
DTSTAMP;TZID=UTC:2026-04-20 13:03:03
DTSTART;TZID=America/Los_Angeles:20260420T130303
DTEND;TZID=America/Los_Angeles:20260420T130303
SUMMARY:Csapatépítő rendezvények (zárt körű)
LOCATION:LŐTÉR - Élménylövészet Pécs
DESCRIPTION:
URL:https://elmenyloveszet.hu/esemeny/csapatepito-rendezvenyek-zart-koru/
END:VEVENT
END:VCALENDAR
