BEGIN:VCALENDAR
VERSION:2.0
PRODID:Imitheme.com 
BEGIN:VEVENT
UID:20260424T225022833354407
DTSTAMP;TZID=UTC:2026-04-24 22:50:22
DTSTART;TZID=America/Los_Angeles:20260424T225022
DTEND;TZID=America/Los_Angeles:20260424T225022
SUMMARY:Élménylövészet Pécs
LOCATION:LŐTÉR - Élménylövészet Pécs
DESCRIPTION:KALAND – KIHÍVÁS – ADRENALIN​ ÉLES LŐFEGYVEREK HASZNÁLATA EGYÉNI, VAGY CSOPORTOS FORMÁBAN
URL:https://elmenyloveszet.hu/esemeny/elmenyloveszet-pecs/
END:VEVENT
END:VCALENDAR
