BEGIN:VCALENDAR
VERSION:2.0
PRODID:Imitheme.com 
BEGIN:VEVENT
UID:20260426T0238242100291003
DTSTAMP;TZID=UTC:2026-04-26 02:38:24
DTSTART;TZID=America/Los_Angeles:20260426T023824
DTEND;TZID=America/Los_Angeles:20260426T023824
SUMMARY:Lövészet (lőtérbérlők zárt körű rendezvénye) 2022.
LOCATION:LŐTÉR - Élménylövészet Pécs
DESCRIPTION:
URL:https://elmenyloveszet.hu/esemeny/loveszet-loterberlok-zart-koru-rendezvenye/
END:VEVENT
END:VCALENDAR
