BEGIN:VCALENDAR
VERSION:2.0
PRODID:Imitheme.com 
BEGIN:VEVENT
UID:20260420T125603555098373
DTSTAMP;TZID=UTC:2026-04-20 12:56:03
DTSTART;TZID=America/Los_Angeles:20260420T125603
DTEND;TZID=America/Los_Angeles:20260420T125603
SUMMARY:Sportlövők (gyakorló, felkészülő lövészet)
LOCATION:LŐTÉR - Élménylövészet Pécs
DESCRIPTION:
URL:https://elmenyloveszet.hu/esemeny/sportlovok-gyakorlo-felkeszulo-loveszet/
END:VEVENT
END:VCALENDAR
