BEGIN:VCALENDAR
VERSION:2.0
PRODID:Imitheme.com 
BEGIN:VEVENT
UID:20260420T143057604920273
DTSTAMP;TZID=UTC:2026-04-20 14:30:57
DTSTART;TZID=America/Los_Angeles:20260420T143057
DTEND;TZID=America/Los_Angeles:20260420T143057
SUMMARY:Csapatépítő rendezvények (zárt körű)
LOCATION:LŐTÉR - Élménylövészet Pécs
DESCRIPTION:
URL:https://elmenyloveszet.hu/esemeny/csapatepito-rendezvenyek-zart-koru/
END:VEVENT
END:VCALENDAR
