BEGIN:VCALENDAR
VERSION:2.0
PRODID:Imitheme.com 
BEGIN:VEVENT
UID:20260420T0628451974198513
DTSTAMP;TZID=UTC:2026-04-20 06:28:45
DTSTART;TZID=America/Los_Angeles:20260420T062845
DTEND;TZID=America/Los_Angeles:20260420T062845
SUMMARY:Dinamikus lövészsport verseny - Gyorspont/Rapid gyorspont
LOCATION:LŐTÉR - Élménylövészet Pécs
DESCRIPTION:
URL:https://elmenyloveszet.hu/esemeny/dinamikus-loveszsport-verseny-gyorspont-rapid-gyorspont-2/
END:VEVENT
END:VCALENDAR
