BEGIN:VCALENDAR
VERSION:2.0
PRODID:Imitheme.com 
BEGIN:VEVENT
UID:20260421T1219061112294878
DTSTAMP;TZID=UTC:2026-04-21 12:19:06
DTSTART;TZID=America/Los_Angeles:20260421T121906
DTEND;TZID=America/Los_Angeles:20260421T121906
SUMMARY:Élménylövészet Pécs
LOCATION:LŐTÉR - Élménylövészet Pécs
DESCRIPTION:KALAND – KIHÍVÁS – ADRENALIN​ ÉLES LŐFEGYVEREK HASZNÁLATA EGYÉNI, VAGY CSOPORTOS FORMÁBAN
URL:https://elmenyloveszet.hu/esemeny/elmenyloveszet-pecs-3/
END:VEVENT
END:VCALENDAR
