BEGIN:VCALENDAR
VERSION:2.0
PRODID:Imitheme.com 
BEGIN:VEVENT
UID:20260422T2057031776465750
DTSTAMP;TZID=UTC:2026-04-22 20:57:03
DTSTART;TZID=America/Los_Angeles:20260422T205703
DTEND;TZID=America/Los_Angeles:20260422T205703
SUMMARY:Élménylövészet Pécs
LOCATION:LŐTÉR - Élménylövészet Pécs
DESCRIPTION:KALAND – KIHÍVÁS – ADRENALIN​ ÉLES LŐFEGYVEREK HASZNÁLATA EGYÉNI, VAGY CSOPORTOS FORMÁBAN
URL:https://elmenyloveszet.hu/esemeny/elmenyloveszet-pecs/
END:VEVENT
END:VCALENDAR
