BEGIN:VCALENDAR
VERSION:2.0
PRODID:Imitheme.com 
BEGIN:VEVENT
UID:20260422T203729658037156
DTSTAMP;TZID=UTC:2026-04-22 20:37:29
DTSTART;TZID=America/Los_Angeles:20260422T203729
DTEND;TZID=America/Los_Angeles:20260422T203729
SUMMARY:Sportlövők (gyakorló, felkészülő lövészet)
LOCATION:LŐTÉR - Élménylövészet Pécs
DESCRIPTION:
URL:https://elmenyloveszet.hu/esemeny/sportlovok-gyakorlo-felkeszulo-loveszet/
END:VEVENT
END:VCALENDAR
