BEGIN:VCALENDAR
VERSION:2.0
PRODID:Imitheme.com 
BEGIN:VEVENT
UID:20260422T223221466631878
DTSTAMP;TZID=UTC:2026-04-22 22:32:21
DTSTART;TZID=America/Los_Angeles:20260422T223221
DTEND;TZID=America/Los_Angeles:20260422T223221
SUMMARY:Dinamikus lövészsport verseny - Gyorspont/Rapid gyorspont
LOCATION:LŐTÉR - Élménylövészet Pécs
DESCRIPTION:
URL:https://elmenyloveszet.hu/esemeny/dinamikus-loveszsport-verseny-gyorspont-rapid-gyorspont-2/
END:VEVENT
END:VCALENDAR
