BEGIN:VCALENDAR
VERSION:2.0
PRODID:Imitheme.com 
BEGIN:VEVENT
UID:20260425T2334461339061759
DTSTAMP;TZID=UTC:2026-04-25 23:34:46
DTSTART;TZID=America/Los_Angeles:20260425T233446
DTEND;TZID=America/Los_Angeles:20260425T233446
SUMMARY:Lövészet (lőtérbérlők zárt körű rendezvénye) 2022.
LOCATION:LŐTÉR - Élménylövészet Pécs
DESCRIPTION:
URL:https://elmenyloveszet.hu/esemeny/loveszet-loterberlok-zart-koru-rendezvenye/
END:VEVENT
END:VCALENDAR
